BEGIN:VCALENDAR
VERSION:2.0
PRODID:-//Historical Preservation, Inc - ECPv6.15.20//NONSGML v1.0//EN
CALSCALE:GREGORIAN
METHOD:PUBLISH
X-WR-CALNAME:Historical Preservation, Inc
X-ORIGINAL-URL:https://heritagehills.org
X-WR-CALDESC:Events for Historical Preservation, Inc
REFRESH-INTERVAL;VALUE=DURATION:PT1H
X-Robots-Tag:noindex
X-PUBLISHED-TTL:PT1H
BEGIN:VTIMEZONE
TZID:America/Chicago
BEGIN:DAYLIGHT
TZOFFSETFROM:-0600
TZOFFSETTO:-0500
TZNAME:CDT
DTSTART:20220313T080000
END:DAYLIGHT
BEGIN:STANDARD
TZOFFSETFROM:-0500
TZOFFSETTO:-0600
TZNAME:CST
DTSTART:20221106T070000
END:STANDARD
BEGIN:DAYLIGHT
TZOFFSETFROM:-0600
TZOFFSETTO:-0500
TZNAME:CDT
DTSTART:20230312T080000
END:DAYLIGHT
BEGIN:STANDARD
TZOFFSETFROM:-0500
TZOFFSETTO:-0600
TZNAME:CST
DTSTART:20231105T070000
END:STANDARD
BEGIN:DAYLIGHT
TZOFFSETFROM:-0600
TZOFFSETTO:-0500
TZNAME:CDT
DTSTART:20240310T080000
END:DAYLIGHT
BEGIN:STANDARD
TZOFFSETFROM:-0500
TZOFFSETTO:-0600
TZNAME:CST
DTSTART:20241103T070000
END:STANDARD
BEGIN:DAYLIGHT
TZOFFSETFROM:-0600
TZOFFSETTO:-0500
TZNAME:CDT
DTSTART:20250309T080000
END:DAYLIGHT
BEGIN:STANDARD
TZOFFSETFROM:-0500
TZOFFSETTO:-0600
TZNAME:CST
DTSTART:20251102T070000
END:STANDARD
BEGIN:DAYLIGHT
TZOFFSETFROM:-0600
TZOFFSETTO:-0500
TZNAME:CDT
DTSTART:20260308T080000
END:DAYLIGHT
BEGIN:STANDARD
TZOFFSETFROM:-0500
TZOFFSETTO:-0600
TZNAME:CST
DTSTART:20261101T070000
END:STANDARD
END:VTIMEZONE
BEGIN:VEVENT
DTSTART;TZID=America/Chicago:20230418T123000
DTEND;TZID=America/Chicago:20230418T140000
DTSTAMP:20260419T154939
CREATED:20230328T014419Z
LAST-MODIFIED:20230328T014419Z
UID:1518-1681821000-1681826400@heritagehills.org
SUMMARY:HPI Board Meeting
DESCRIPTION:Social – 5:00PM \nCall to Order – 5:30PM
URL:https://heritagehills.org/event/hpi-board-meeting-3/
LOCATION:Overholser Carriage House
END:VEVENT
BEGIN:VEVENT
DTSTART;VALUE=DATE:20250507
DTEND;VALUE=DATE:20250508
DTSTAMP:20260419T154939
CREATED:20250219T220501Z
LAST-MODIFIED:20250219T220501Z
UID:4733-1746576000-1746662399@heritagehills.org
SUMMARY:Mom-Jong
DESCRIPTION:
URL:https://heritagehills.org/event/mom-jong/
END:VEVENT
BEGIN:VEVENT
DTSTART;TZID=America/Chicago:20230418T123000
DTEND;TZID=America/Chicago:20230418T140000
DTSTAMP:20260419T154939
CREATED:20230328T014419Z
LAST-MODIFIED:20230328T014419Z
UID:1518-1681821000-1681826400@heritagehills.org
SUMMARY:HPI Board Meeting
DESCRIPTION:Social – 5:00PM \nCall to Order – 5:30PM
URL:https://heritagehills.org/event/hpi-board-meeting-3/
LOCATION:Overholser Carriage House
END:VEVENT
BEGIN:VEVENT
DTSTART;TZID=America/Chicago:20230418T123000
DTEND;TZID=America/Chicago:20230418T140000
DTSTAMP:20260419T154939
CREATED:20230328T014419Z
LAST-MODIFIED:20230328T014419Z
UID:1518-1681821000-1681826400@heritagehills.org
SUMMARY:HPI Board Meeting
DESCRIPTION:Social – 5:00PM \nCall to Order – 5:30PM
URL:https://heritagehills.org/event/hpi-board-meeting-3/
LOCATION:Overholser Carriage House
END:VEVENT
BEGIN:VEVENT
DTSTART;TZID=America/Chicago:20230418T123000
DTEND;TZID=America/Chicago:20230418T140000
DTSTAMP:20260419T154939
CREATED:20230328T014419Z
LAST-MODIFIED:20230328T014419Z
UID:1518-1681821000-1681826400@heritagehills.org
SUMMARY:HPI Board Meeting
DESCRIPTION:Social – 5:00PM \nCall to Order – 5:30PM
URL:https://heritagehills.org/event/hpi-board-meeting-3/
LOCATION:Overholser Carriage House
END:VEVENT
BEGIN:VEVENT
DTSTART;TZID=America/Chicago:20250125T030000
DTEND;TZID=America/Chicago:20250125T170000
DTSTAMP:20260419T154939
CREATED:20250107T155727Z
LAST-MODIFIED:20250107T155727Z
UID:4297-1737774000-1737824400@heritagehills.org
SUMMARY:Heritage Hills Annual Meeting
DESCRIPTION:All neighbors of Heritage Hills are welcome to attend the Annual Meeting at the Sieber Residences on January 25th at 3:00PM. The event includes the State of the Neighborhood Address\, Committee highlights for the 2024 year\, presentation of 2024 Neighborhood Awards\, and election of 2025 Board Members. Refreshments and door prizes provided.
URL:https://heritagehills.org/event/heritage-hills-annual-meeting/
LOCATION:Sieber Hotel\, 1305 N. Hudson Avenue\, Oklahoma City\, OK\, United States
END:VEVENT
BEGIN:VEVENT
DTSTART;TZID=America/Chicago:20230418T123000
DTEND;TZID=America/Chicago:20230418T140000
DTSTAMP:20260419T154939
CREATED:20230328T014419Z
LAST-MODIFIED:20230328T014419Z
UID:1518-1681821000-1681826400@heritagehills.org
SUMMARY:HPI Board Meeting
DESCRIPTION:Social – 5:00PM \nCall to Order – 5:30PM
URL:https://heritagehills.org/event/hpi-board-meeting-3/
LOCATION:Overholser Carriage House
END:VEVENT
BEGIN:VEVENT
DTSTART;TZID=America/Chicago:20230418T123000
DTEND;TZID=America/Chicago:20230418T140000
DTSTAMP:20260419T154939
CREATED:20230328T014419Z
LAST-MODIFIED:20230328T014419Z
UID:1518-1681821000-1681826400@heritagehills.org
SUMMARY:HPI Board Meeting
DESCRIPTION:Social – 5:00PM \nCall to Order – 5:30PM
URL:https://heritagehills.org/event/hpi-board-meeting-3/
LOCATION:Overholser Carriage House
END:VEVENT
BEGIN:VEVENT
DTSTART;TZID=America/Chicago:20230418T123000
DTEND;TZID=America/Chicago:20230418T140000
DTSTAMP:20260419T154939
CREATED:20230328T014419Z
LAST-MODIFIED:20230328T014419Z
UID:1518-1681821000-1681826400@heritagehills.org
SUMMARY:HPI Board Meeting
DESCRIPTION:Social – 5:00PM \nCall to Order – 5:30PM
URL:https://heritagehills.org/event/hpi-board-meeting-3/
LOCATION:Overholser Carriage House
END:VEVENT
BEGIN:VEVENT
DTSTART;VALUE=DATE:20241026
DTEND;VALUE=DATE:20241028
DTSTAMP:20260419T154939
CREATED:20240320T164152Z
LAST-MODIFIED:20240320T164152Z
UID:2309-1729900800-1730073599@heritagehills.org
SUMMARY:Heritage Hills Historic Homes Tour
DESCRIPTION:
URL:https://heritagehills.org/event/heritage-hills-historic-homes-tour-2/
END:VEVENT
BEGIN:VEVENT
DTSTART;VALUE=DATE:20241025
DTEND;VALUE=DATE:20241026
DTSTAMP:20260419T154939
CREATED:20240320T164112Z
LAST-MODIFIED:20240320T164112Z
UID:2307-1729814400-1729900799@heritagehills.org
SUMMARY:Heritage Hills Twilight Tour and Dinner
DESCRIPTION:
URL:https://heritagehills.org/event/heritage-hills-twilight-tour-and-dinner/
END:VEVENT
BEGIN:VEVENT
DTSTART;TZID=America/Chicago:20230418T123000
DTEND;TZID=America/Chicago:20230418T140000
DTSTAMP:20260419T154939
CREATED:20230328T014419Z
LAST-MODIFIED:20230328T014419Z
UID:1518-1681821000-1681826400@heritagehills.org
SUMMARY:HPI Board Meeting
DESCRIPTION:Social – 5:00PM \nCall to Order – 5:30PM
URL:https://heritagehills.org/event/hpi-board-meeting-3/
LOCATION:Overholser Carriage House
END:VEVENT
BEGIN:VEVENT
DTSTART;TZID=America/Chicago:20230418T123000
DTEND;TZID=America/Chicago:20230418T140000
DTSTAMP:20260419T154939
CREATED:20230328T014419Z
LAST-MODIFIED:20230328T014419Z
UID:1518-1681821000-1681826400@heritagehills.org
SUMMARY:HPI Board Meeting
DESCRIPTION:Social – 5:00PM \nCall to Order – 5:30PM
URL:https://heritagehills.org/event/hpi-board-meeting-3/
LOCATION:Overholser Carriage House
END:VEVENT
BEGIN:VEVENT
DTSTART;TZID=America/Chicago:20230418T123000
DTEND;TZID=America/Chicago:20230418T140000
DTSTAMP:20260419T154939
CREATED:20230328T014419Z
LAST-MODIFIED:20230328T014419Z
UID:1518-1681821000-1681826400@heritagehills.org
SUMMARY:HPI Board Meeting
DESCRIPTION:Social – 5:00PM \nCall to Order – 5:30PM
URL:https://heritagehills.org/event/hpi-board-meeting-3/
LOCATION:Overholser Carriage House
END:VEVENT
BEGIN:VEVENT
DTSTART;TZID=America/Chicago:20230418T123000
DTEND;TZID=America/Chicago:20230418T140000
DTSTAMP:20260419T154939
CREATED:20230328T014419Z
LAST-MODIFIED:20230328T014419Z
UID:1518-1681821000-1681826400@heritagehills.org
SUMMARY:HPI Board Meeting
DESCRIPTION:Social – 5:00PM \nCall to Order – 5:30PM
URL:https://heritagehills.org/event/hpi-board-meeting-3/
LOCATION:Overholser Carriage House
END:VEVENT
BEGIN:VEVENT
DTSTART;TZID=America/Chicago:20230418T123000
DTEND;TZID=America/Chicago:20230418T140000
DTSTAMP:20260419T154939
CREATED:20230328T014419Z
LAST-MODIFIED:20230328T014419Z
UID:1518-1681821000-1681826400@heritagehills.org
SUMMARY:HPI Board Meeting
DESCRIPTION:Social – 5:00PM \nCall to Order – 5:30PM
URL:https://heritagehills.org/event/hpi-board-meeting-3/
LOCATION:Overholser Carriage House
END:VEVENT
BEGIN:VEVENT
DTSTART;TZID=America/Chicago:20240615T083000
DTEND;TZID=America/Chicago:20240615T103000
DTSTAMP:20260419T154939
CREATED:20240320T164026Z
LAST-MODIFIED:20240320T164026Z
UID:2305-1718440200-1718447400@heritagehills.org
SUMMARY:Annual Harn Park Pancake Breakfast
DESCRIPTION:
URL:https://heritagehills.org/event/annual-harn-park-pancake-breakfast-2/
END:VEVENT
BEGIN:VEVENT
DTSTART;VALUE=DATE:20240608
DTEND;VALUE=DATE:20240609
DTSTAMP:20260419T154939
CREATED:20240320T163931Z
LAST-MODIFIED:20240320T163931Z
UID:2303-1717804800-1717891199@heritagehills.org
SUMMARY:Heritage Hills Spring Cocktail Party
DESCRIPTION:Neighbors please check the email newsletter for more details on time and location.
URL:https://heritagehills.org/event/heritage-hills-spring-cocktail-party/
END:VEVENT
BEGIN:VEVENT
DTSTART;TZID=America/Chicago:20230418T123000
DTEND;TZID=America/Chicago:20230418T140000
DTSTAMP:20260419T154939
CREATED:20230328T014419Z
LAST-MODIFIED:20230328T014419Z
UID:1518-1681821000-1681826400@heritagehills.org
SUMMARY:HPI Board Meeting
DESCRIPTION:Social – 5:00PM \nCall to Order – 5:30PM
URL:https://heritagehills.org/event/hpi-board-meeting-3/
LOCATION:Overholser Carriage House
END:VEVENT
BEGIN:VEVENT
DTSTART;TZID=America/Chicago:20230418T123000
DTEND;TZID=America/Chicago:20230418T140000
DTSTAMP:20260419T154939
CREATED:20230328T014419Z
LAST-MODIFIED:20230328T014419Z
UID:1518-1681821000-1681826400@heritagehills.org
SUMMARY:HPI Board Meeting
DESCRIPTION:Social – 5:00PM \nCall to Order – 5:30PM
URL:https://heritagehills.org/event/hpi-board-meeting-3/
LOCATION:Overholser Carriage House
END:VEVENT
BEGIN:VEVENT
DTSTART;TZID=America/Chicago:20240330T140000
DTEND;TZID=America/Chicago:20240330T160000
DTSTAMP:20260419T154939
CREATED:20240320T163640Z
LAST-MODIFIED:20240320T163733Z
UID:2300-1711807200-1711814400@heritagehills.org
SUMMARY:Heritage Hills Easter Egg Hunt
DESCRIPTION:Neighbors are invited to join the Annual Heritage Hills Easter Egg Hunt! Please check your email for details on time and location.
URL:https://heritagehills.org/event/heritage-hills-easter-egg-hunt/
END:VEVENT
BEGIN:VEVENT
DTSTART;TZID=America/Chicago:20230418T123000
DTEND;TZID=America/Chicago:20230418T140000
DTSTAMP:20260419T154939
CREATED:20230328T014419Z
LAST-MODIFIED:20230328T014419Z
UID:1518-1681821000-1681826400@heritagehills.org
SUMMARY:HPI Board Meeting
DESCRIPTION:Social – 5:00PM \nCall to Order – 5:30PM
URL:https://heritagehills.org/event/hpi-board-meeting-3/
LOCATION:Overholser Carriage House
END:VEVENT
BEGIN:VEVENT
DTSTART;TZID=America/Chicago:20230418T123000
DTEND;TZID=America/Chicago:20230418T140000
DTSTAMP:20260419T154939
CREATED:20230328T014419Z
LAST-MODIFIED:20230328T014419Z
UID:1518-1681821000-1681826400@heritagehills.org
SUMMARY:HPI Board Meeting
DESCRIPTION:Social – 5:00PM \nCall to Order – 5:30PM
URL:https://heritagehills.org/event/hpi-board-meeting-3/
LOCATION:Overholser Carriage House
END:VEVENT
BEGIN:VEVENT
DTSTART;TZID=America/Chicago:20230418T123000
DTEND;TZID=America/Chicago:20230418T140000
DTSTAMP:20260419T154939
CREATED:20230328T014419Z
LAST-MODIFIED:20230328T014419Z
UID:1518-1681821000-1681826400@heritagehills.org
SUMMARY:HPI Board Meeting
DESCRIPTION:Social – 5:00PM \nCall to Order – 5:30PM
URL:https://heritagehills.org/event/hpi-board-meeting-3/
LOCATION:Overholser Carriage House
END:VEVENT
BEGIN:VEVENT
DTSTART;TZID=America/Chicago:20230418T123000
DTEND;TZID=America/Chicago:20230418T140000
DTSTAMP:20260419T154939
CREATED:20230328T014419Z
LAST-MODIFIED:20230328T014419Z
UID:1518-1681821000-1681826400@heritagehills.org
SUMMARY:HPI Board Meeting
DESCRIPTION:Social – 5:00PM \nCall to Order – 5:30PM
URL:https://heritagehills.org/event/hpi-board-meeting-3/
LOCATION:Overholser Carriage House
END:VEVENT
BEGIN:VEVENT
DTSTART;VALUE=DATE:20231209
DTEND;VALUE=DATE:20231210
DTSTAMP:20260419T154939
CREATED:20231025T205243Z
LAST-MODIFIED:20231025T205243Z
UID:2149-1702080000-1702166399@heritagehills.org
SUMMARY:Holiday Party
DESCRIPTION:
URL:https://heritagehills.org/event/holiday-party/
END:VEVENT
BEGIN:VEVENT
DTSTART;TZID=America/Chicago:20230418T123000
DTEND;TZID=America/Chicago:20230418T140000
DTSTAMP:20260419T154939
CREATED:20230328T014419Z
LAST-MODIFIED:20230328T014419Z
UID:1518-1681821000-1681826400@heritagehills.org
SUMMARY:HPI Board Meeting
DESCRIPTION:Social – 5:00PM \nCall to Order – 5:30PM
URL:https://heritagehills.org/event/hpi-board-meeting-3/
LOCATION:Overholser Carriage House
END:VEVENT
BEGIN:VEVENT
DTSTART;TZID=America/Chicago:20231029T130000
DTEND;TZID=America/Chicago:20231029T150000
DTSTAMP:20260419T154939
CREATED:20231025T205043Z
LAST-MODIFIED:20231025T205043Z
UID:2147-1698584400-1698591600@heritagehills.org
SUMMARY:Halloween Party
DESCRIPTION:
URL:https://heritagehills.org/event/halloween-party/
LOCATION:Overholser Carriage House
END:VEVENT
BEGIN:VEVENT
DTSTART;VALUE=DATE:20231019
DTEND;VALUE=DATE:20231023
DTSTAMP:20260419T154939
CREATED:20230130T080618Z
LAST-MODIFIED:20230130T080618Z
UID:1466-1697742000-1698001199@heritagehills.org
SUMMARY:Heritage Hills Historic Home Tour
DESCRIPTION:
URL:https://heritagehills.org/event/heritage-hills-historic-home-tour/
END:VEVENT
BEGIN:VEVENT
DTSTART;TZID=America/Chicago:20230418T123000
DTEND;TZID=America/Chicago:20230418T140000
DTSTAMP:20260419T154939
CREATED:20230328T014419Z
LAST-MODIFIED:20230328T014419Z
UID:1518-1681821000-1681826400@heritagehills.org
SUMMARY:HPI Board Meeting
DESCRIPTION:Social – 5:00PM \nCall to Order – 5:30PM
URL:https://heritagehills.org/event/hpi-board-meeting-3/
LOCATION:Overholser Carriage House
END:VEVENT
END:VCALENDAR