BEGIN:VCALENDAR
VERSION:2.0
PRODID:-//Historical Preservation, Inc - ECPv6.15.20//NONSGML v1.0//EN
CALSCALE:GREGORIAN
METHOD:PUBLISH
X-WR-CALNAME:Historical Preservation, Inc
X-ORIGINAL-URL:https://heritagehills.org
X-WR-CALDESC:Events for Historical Preservation, Inc
REFRESH-INTERVAL;VALUE=DURATION:PT1H
X-Robots-Tag:noindex
X-PUBLISHED-TTL:PT1H
BEGIN:VTIMEZONE
TZID:America/Chicago
BEGIN:DAYLIGHT
TZOFFSETFROM:-0600
TZOFFSETTO:-0500
TZNAME:CDT
DTSTART:20220313T080000
END:DAYLIGHT
BEGIN:STANDARD
TZOFFSETFROM:-0500
TZOFFSETTO:-0600
TZNAME:CST
DTSTART:20221106T070000
END:STANDARD
BEGIN:DAYLIGHT
TZOFFSETFROM:-0600
TZOFFSETTO:-0500
TZNAME:CDT
DTSTART:20230312T080000
END:DAYLIGHT
BEGIN:STANDARD
TZOFFSETFROM:-0500
TZOFFSETTO:-0600
TZNAME:CST
DTSTART:20231105T070000
END:STANDARD
BEGIN:DAYLIGHT
TZOFFSETFROM:-0600
TZOFFSETTO:-0500
TZNAME:CDT
DTSTART:20240310T080000
END:DAYLIGHT
BEGIN:STANDARD
TZOFFSETFROM:-0500
TZOFFSETTO:-0600
TZNAME:CST
DTSTART:20241103T070000
END:STANDARD
END:VTIMEZONE
BEGIN:VEVENT
DTSTART;TZID=America/Chicago:20230418T123000
DTEND;TZID=America/Chicago:20230418T140000
DTSTAMP:20260419T203737
CREATED:20230328T014419Z
LAST-MODIFIED:20230328T014419Z
UID:1518-1681821000-1681826400@heritagehills.org
SUMMARY:HPI Board Meeting
DESCRIPTION:Social – 5:00PM \nCall to Order – 5:30PM
URL:https://heritagehills.org/event/hpi-board-meeting-3/
LOCATION:Overholser Carriage House
END:VEVENT
BEGIN:VEVENT
DTSTART;VALUE=DATE:20231209
DTEND;VALUE=DATE:20231210
DTSTAMP:20260419T203737
CREATED:20231025T205243Z
LAST-MODIFIED:20231025T205243Z
UID:2149-1702080000-1702166399@heritagehills.org
SUMMARY:Holiday Party
DESCRIPTION:
URL:https://heritagehills.org/event/holiday-party/
END:VEVENT
BEGIN:VEVENT
DTSTART;TZID=America/Chicago:20230418T123000
DTEND;TZID=America/Chicago:20230418T140000
DTSTAMP:20260419T203737
CREATED:20230328T014419Z
LAST-MODIFIED:20230328T014419Z
UID:1518-1681821000-1681826400@heritagehills.org
SUMMARY:HPI Board Meeting
DESCRIPTION:Social – 5:00PM \nCall to Order – 5:30PM
URL:https://heritagehills.org/event/hpi-board-meeting-3/
LOCATION:Overholser Carriage House
END:VEVENT
BEGIN:VEVENT
DTSTART;TZID=America/Chicago:20231029T130000
DTEND;TZID=America/Chicago:20231029T150000
DTSTAMP:20260419T203737
CREATED:20231025T205043Z
LAST-MODIFIED:20231025T205043Z
UID:2147-1698584400-1698591600@heritagehills.org
SUMMARY:Halloween Party
DESCRIPTION:
URL:https://heritagehills.org/event/halloween-party/
LOCATION:Overholser Carriage House
END:VEVENT
BEGIN:VEVENT
DTSTART;VALUE=DATE:20231019
DTEND;VALUE=DATE:20231023
DTSTAMP:20260419T203737
CREATED:20230130T080618Z
LAST-MODIFIED:20230130T080618Z
UID:1466-1697742000-1698001199@heritagehills.org
SUMMARY:Heritage Hills Historic Home Tour
DESCRIPTION:
URL:https://heritagehills.org/event/heritage-hills-historic-home-tour/
END:VEVENT
BEGIN:VEVENT
DTSTART;TZID=America/Chicago:20230418T123000
DTEND;TZID=America/Chicago:20230418T140000
DTSTAMP:20260419T203737
CREATED:20230328T014419Z
LAST-MODIFIED:20230328T014419Z
UID:1518-1681821000-1681826400@heritagehills.org
SUMMARY:HPI Board Meeting
DESCRIPTION:Social – 5:00PM \nCall to Order – 5:30PM
URL:https://heritagehills.org/event/hpi-board-meeting-3/
LOCATION:Overholser Carriage House
END:VEVENT
BEGIN:VEVENT
DTSTART;TZID=America/Chicago:20230418T123000
DTEND;TZID=America/Chicago:20230418T140000
DTSTAMP:20260419T203737
CREATED:20230328T014419Z
LAST-MODIFIED:20230328T014419Z
UID:1518-1681821000-1681826400@heritagehills.org
SUMMARY:HPI Board Meeting
DESCRIPTION:Social – 5:00PM \nCall to Order – 5:30PM
URL:https://heritagehills.org/event/hpi-board-meeting-3/
LOCATION:Overholser Carriage House
END:VEVENT
BEGIN:VEVENT
DTSTART;TZID=America/Chicago:20230418T123000
DTEND;TZID=America/Chicago:20230418T140000
DTSTAMP:20260419T203737
CREATED:20230328T014419Z
LAST-MODIFIED:20230328T014419Z
UID:1518-1681821000-1681826400@heritagehills.org
SUMMARY:HPI Board Meeting
DESCRIPTION:Social – 5:00PM \nCall to Order – 5:30PM
URL:https://heritagehills.org/event/hpi-board-meeting-3/
LOCATION:Overholser Carriage House
END:VEVENT
BEGIN:VEVENT
DTSTART;TZID=America/Chicago:20230624T033000
DTEND;TZID=America/Chicago:20230624T060000
DTSTAMP:20260419T203737
CREATED:20230328T015126Z
LAST-MODIFIED:20230428T000414Z
UID:1521-1687577400-1687586400@heritagehills.org
SUMMARY:Annual Harn Park Pancake Breakfast
DESCRIPTION:
URL:https://heritagehills.org/event/annual-harn-park-pancake-breakfast/
LOCATION:Harn Park
END:VEVENT
BEGIN:VEVENT
DTSTART;TZID=America/Chicago:20230418T123000
DTEND;TZID=America/Chicago:20230418T140000
DTSTAMP:20260419T203737
CREATED:20230328T014419Z
LAST-MODIFIED:20230328T014419Z
UID:1518-1681821000-1681826400@heritagehills.org
SUMMARY:HPI Board Meeting
DESCRIPTION:Social – 5:00PM \nCall to Order – 5:30PM
URL:https://heritagehills.org/event/hpi-board-meeting-3/
LOCATION:Overholser Carriage House
END:VEVENT
BEGIN:VEVENT
DTSTART;TZID=America/Chicago:20230602T130000
DTEND;TZID=America/Chicago:20230602T150000
DTSTAMP:20260419T203737
CREATED:20230428T000501Z
LAST-MODIFIED:20230428T000548Z
UID:1540-1685710800-1685718000@heritagehills.org
SUMMARY:Annual Spring Cocktail Party
DESCRIPTION:Morris Residence
URL:https://heritagehills.org/event/annual-spring-cocktail-party/
END:VEVENT
BEGIN:VEVENT
DTSTART;TZID=America/Chicago:20230418T123000
DTEND;TZID=America/Chicago:20230418T140000
DTSTAMP:20260419T203737
CREATED:20230328T014419Z
LAST-MODIFIED:20230328T014419Z
UID:1518-1681821000-1681826400@heritagehills.org
SUMMARY:HPI Board Meeting
DESCRIPTION:Social – 5:00PM \nCall to Order – 5:30PM
URL:https://heritagehills.org/event/hpi-board-meeting-3/
LOCATION:Overholser Carriage House
END:VEVENT
BEGIN:VEVENT
DTSTART;TZID=America/Chicago:20230418T123000
DTEND;TZID=America/Chicago:20230418T140000
DTSTAMP:20260419T203737
CREATED:20230328T014419Z
LAST-MODIFIED:20230328T014419Z
UID:1518-1681821000-1681826400@heritagehills.org
SUMMARY:HPI Board Meeting
DESCRIPTION:Social – 5:00PM \nCall to Order – 5:30PM
URL:https://heritagehills.org/event/hpi-board-meeting-3/
LOCATION:Overholser Carriage House
END:VEVENT
BEGIN:VEVENT
DTSTART;TZID=America/Chicago:20230401T050000
DTEND;TZID=America/Chicago:20230401T070000
DTSTAMP:20260419T203737
CREATED:20230303T002757Z
LAST-MODIFIED:20230303T002757Z
UID:1498-1680325200-1680332400@heritagehills.org
SUMMARY:Annual Heritage Hills Easter Egg Hunt
DESCRIPTION:
URL:https://heritagehills.org/event/annual-heritage-hills-easter-egg-hunt/
LOCATION:Overholser Lawn
END:VEVENT
BEGIN:VEVENT
DTSTART;TZID=America/Chicago:20230321T123000
DTEND;TZID=America/Chicago:20230321T140000
DTSTAMP:20260419T203737
CREATED:20230303T002612Z
LAST-MODIFIED:20230303T002612Z
UID:1496-1679401800-1679407200@heritagehills.org
SUMMARY:HPI Board Meeting
DESCRIPTION:Social – 5:00PM \nCall to Order – 5:30PM
URL:https://heritagehills.org/event/hpi-board-meeting-2/
LOCATION:Overholser Carriage House
END:VEVENT
BEGIN:VEVENT
DTSTART;TZID=America/Chicago:20230221T113000
DTEND;TZID=America/Chicago:20230221T130000
DTSTAMP:20260419T203737
CREATED:20230128T033500Z
LAST-MODIFIED:20230128T033856Z
UID:1441-1676979000-1676984400@heritagehills.org
SUMMARY:HPI Board Meeting
DESCRIPTION:Social – 5:00PM \nCall to Order – 5:30PM
URL:https://heritagehills.org/event/hpi-board-meeting/
LOCATION:Overholser Carriage House
END:VEVENT
BEGIN:VEVENT
DTSTART;TZID=America/Chicago:20230128T090000
DTEND;TZID=America/Chicago:20230128T110000
DTSTAMP:20260419T203737
CREATED:20230128T024956Z
LAST-MODIFIED:20230128T032858Z
UID:1426-1674896400-1674903600@heritagehills.org
SUMMARY:HPI Annual Business Meeting
DESCRIPTION:Come join your neighbors for this annual Heritage Hills meeting to\nwhich all residents are invited. Refreshments will be provided.\nThis year\, representatives from the City Planning Department will\npresent the New Zoning Code. \nIn addition to the opportunity to learn more about Heritage Hills and\nways to become further engaged in the neighborhood\, the meeting will\ninclude a review of HPI’s 2022 activities with brief committee reports\,\nTreasurer’s report\, election of board members for 2023\, and announcement\nof awards.
URL:https://heritagehills.org/event/hpi-annual-business-meeting-2/
LOCATION:Overholser Carriage House
END:VEVENT
END:VCALENDAR